BEGIN:VCALENDAR
VERSION:2.0
PRODID:-//Pulmonary Diseases and Critical Care
 //NONSGML Events //EN
CALSCALE:GREGORIAN
BEGIN:VEVENT
CREATED:20210917T001427Z
UID:1743
DTEND;VALUE=DATE:20211212T000000
DTSTART;VALUE=DATE:20211211T070000
DTSTAMP:20260424T205838Z
LOCATION:Academic Learning and Teaching Center (ALTC)
DESCRIPTION:<em>**Registration is required to attend</em>
X-ALT-DESC;FMTTYPE=text/html:<em>**Registration is required to attend</em>
SUMMARY:Point-of-care Ultrasound CME Workshop
URL;VALUE=URI:https://lsom.uthscsa.edu/pulmonary-diseases/events/point-of-care-ultrasound-workshop/
TRANSP:OPAQUE
END:VEVENT
END:VCALENDAR
